BEGIN:VCALENDAR
VERSION:2.0
PRODID:-//Barbara Dullaghan Secrets in the Hollow - ECPv6.15.20//NONSGML v1.0//EN
CALSCALE:GREGORIAN
METHOD:PUBLISH
X-ORIGINAL-URL:https://barbaradullaghan.com
X-WR-CALDESC:Events for Barbara Dullaghan Secrets in the Hollow
REFRESH-INTERVAL;VALUE=DURATION:PT1H
X-Robots-Tag:noindex
X-PUBLISHED-TTL:PT1H
BEGIN:VTIMEZONE
TZID:UTC
BEGIN:STANDARD
TZOFFSETFROM:+0000
TZOFFSETTO:+0000
TZNAME:UTC
DTSTART:20240101T000000
END:STANDARD
END:VTIMEZONE
BEGIN:VEVENT
DTSTART;VALUE=DATE:20250219
DTEND;VALUE=DATE:20250220
DTSTAMP:20260425T172405
CREATED:20250120T192852Z
LAST-MODIFIED:20250120T192852Z
UID:4385-1739923200-1740009599@barbaradullaghan.com
SUMMARY:Brunswick Forest Book Club February 19\, 2025
DESCRIPTION:February 19\, 2025\n\nBrunswick Forest Book Club\nBrunswick Forest Book Club\, Leland\, NC
URL:https://barbaradullaghan.com/event/brunswick-forest-book-club-february-19-2025/
LOCATION:Brunswick Forest Book Club\, Leland\, NC\, United States
CATEGORIES:Brunswick Forest Book Club
END:VEVENT
BEGIN:VEVENT
DTSTART;VALUE=DATE:20250211
DTEND;VALUE=DATE:20250212
DTSTAMP:20260425T172405
CREATED:20250120T192558Z
LAST-MODIFIED:20250120T192706Z
UID:4381-1739232000-1739318399@barbaradullaghan.com
SUMMARY:Brunswick Forest Book Club February 11\, 2025
DESCRIPTION:February 11\, 2025\nBrunswick Forest Book Club\nBrunswick Forest Book Club\, Leland\, NC
URL:https://barbaradullaghan.com/event/brunswick-forest-book-club-february-11-2025/
LOCATION:Brunswick Forest Book Club\, Leland\, NC\, United States
CATEGORIES:Brunswick Forest Book Club
END:VEVENT
END:VCALENDAR