BEGIN:VCALENDAR
VERSION:2.0
PRODID:-//Barbara Dullaghan Secrets in the Hollow - ECPv6.15.20//NONSGML v1.0//EN
CALSCALE:GREGORIAN
METHOD:PUBLISH
X-WR-CALNAME:Barbara Dullaghan Secrets in the Hollow
X-ORIGINAL-URL:https://barbaradullaghan.com
X-WR-CALDESC:Events for Barbara Dullaghan Secrets in the Hollow
REFRESH-INTERVAL;VALUE=DURATION:PT1H
X-Robots-Tag:noindex
X-PUBLISHED-TTL:PT1H
BEGIN:VTIMEZONE
TZID:UTC
BEGIN:STANDARD
TZOFFSETFROM:+0000
TZOFFSETTO:+0000
TZNAME:UTC
DTSTART:20230101T000000
END:STANDARD
END:VTIMEZONE
BEGIN:VEVENT
DTSTART;TZID=UTC:20240515T190000
DTEND;TZID=UTC:20240515T210000
DTSTAMP:20260425T173457
CREATED:20240226T141429Z
LAST-MODIFIED:20240226T141429Z
UID:4330-1715799600-1715806800@barbaradullaghan.com
SUMMARY:Mallory Creek Book Club
DESCRIPTION:Wednesday\, May 15\, 2024\, 7 pm\nMallory Creek Book Club\nLeland\, NC
URL:https://barbaradullaghan.com/event/mallory-creek-book-club/
LOCATION:Mallory Creek Book Club\, Leland\, NC\, United States
CATEGORIES:Mallory Creek Book Club
END:VEVENT
END:VCALENDAR