BEGIN:VCALENDAR
VERSION:2.0
PRODID:-//Barbara Dullaghan Secrets in the Hollow - ECPv6.15.20//NONSGML v1.0//EN
CALSCALE:GREGORIAN
METHOD:PUBLISH
X-ORIGINAL-URL:https://barbaradullaghan.com
X-WR-CALDESC:Events for Barbara Dullaghan Secrets in the Hollow
REFRESH-INTERVAL;VALUE=DURATION:PT1H
X-Robots-Tag:noindex
X-PUBLISHED-TTL:PT1H
BEGIN:VTIMEZONE
TZID:UTC
BEGIN:STANDARD
TZOFFSETFROM:+0000
TZOFFSETTO:+0000
TZNAME:UTC
DTSTART:20220101T000000
END:STANDARD
END:VTIMEZONE
BEGIN:VEVENT
DTSTART;TZID=UTC:20231205T123000
DTEND;TZID=UTC:20231205T150000
DTSTAMP:20260425T143504
CREATED:20231031T153920Z
LAST-MODIFIED:20231031T153920Z
UID:4308-1701779400-1701788400@barbaradullaghan.com
SUMMARY:Sandalwood Shoppes
DESCRIPTION:Tuesday\, December 5\, 2023\n12:30-3:00 pm
URL:https://barbaradullaghan.com/event/sandalwood-shoppes/
LOCATION:Sandalwood Shoppes\, 485 Olde Waterford Way\, Leland\, NC\, United States
END:VEVENT
BEGIN:VEVENT
DTSTART;TZID=UTC:20231127T190000
DTEND;TZID=UTC:20231127T210000
DTSTAMP:20260425T143504
CREATED:20231101T234833Z
LAST-MODIFIED:20231101T234833Z
UID:4311-1701111600-1701118800@barbaradullaghan.com
SUMMARY:Unwined in the Square Book Club
DESCRIPTION:Monday\, November 27\, 2023  7 pm\nUnwined in the Square Book Club\n2163 Britton Road\, Leland\, NC
URL:https://barbaradullaghan.com/event/unwined-in-the-square-book-club/
LOCATION:Unwined in the Square Book Club\, 2163 Britton Road\, Leland\, NC\, United States
END:VEVENT
BEGIN:VEVENT
DTSTART;TZID=UTC:20231016T190000
DTEND;TZID=UTC:20231016T210000
DTSTAMP:20260425T143504
CREATED:20230907T201014Z
LAST-MODIFIED:20231011T144303Z
UID:4269-1697482800-1697490000@barbaradullaghan.com
SUMMARY:Warner Library Virtual Event
DESCRIPTION:Monday\, October 16\, 2023\, 7 pm VIRTUAL\nWarner Library\, Tarrytown\, NY\n\nMonday\, October 16 at 7 pm/ Virtual Author Visit with Barbara Dullaghan – Barbara Dullaghan will discuss Secrets in the Hollow: A Sleepy Hollow Novel\, which follows the turbulent story of Carrie Peters\, who returns to her hometown of Sleepy Hollow after her parents die. Through Carrie’s struggles\, readers see the lasting impact of keeping secrets and are drawn into the historical setting of Sleepy Hollow\, New York. Hosted on Zoom. Free and open to all. Register here: https://bit.ly/barbaradullaghan.
URL:https://barbaradullaghan.com/event/warner-library-virtual-event/
LOCATION:Warner Library Virtual Event\, Warner Library\, Tarrytown\, NY\, United States
END:VEVENT
BEGIN:VEVENT
DTSTART;TZID=UTC:20230920T180000
DTEND;TZID=UTC:20230920T200000
DTSTAMP:20260425T143504
CREATED:20230907T200837Z
LAST-MODIFIED:20230907T200837Z
UID:4266-1695232800-1695240000@barbaradullaghan.com
SUMMARY:Reading and Book Signing Barnes and Noble Cortlandt Town Center
DESCRIPTION:Wednesday\, Sept. 20\, 2023\, 6 pm\nBarnes and Noble\, 3089 E. Main Street\, Mohegan Lake\, NY\nLocated in Cortlandt Town Center\nReading and Book Signing
URL:https://barbaradullaghan.com/event/reading-and-book-signing-barnes-and-noble-cortlandt-town-center/
LOCATION:Barnes and Noble Cortlandt Town Center\, 3089 E. Main Street\, Mohegan Lake\, NY\, United States
END:VEVENT
BEGIN:VEVENT
DTSTART;TZID=UTC:20230908T110000
DTEND;TZID=UTC:20230908T150000
DTSTAMP:20260425T143504
CREATED:20230907T200519Z
LAST-MODIFIED:20230907T200519Z
UID:4260-1694170800-1694185200@barbaradullaghan.com
SUMMARY:Sandalwood Shoppes Meet the Author and Book Signing
DESCRIPTION:Sandalwood Shoppes Meet the Author and Book Signing \n  \nFriday\, Sept. 8\, 2023\, 11 am – 3 pm\nSandalwood Shoppes\, 485 Olde Waterford Way\, Leland\, NC\nMeet the Author/ Book Signing\n 
URL:https://barbaradullaghan.com/event/sandalwood-shoppes-meet-the-author-and-book-signing/
LOCATION:Sandalwood Shoppes\, 485 Olde Waterford Way\, Leland\, NC\, United States
END:VEVENT
BEGIN:VEVENT
DTSTART;VALUE=DATE:20230905
DTEND;VALUE=DATE:20230906
DTSTAMP:20260425T143504
CREATED:20230907T200622Z
LAST-MODIFIED:20230907T200622Z
UID:4263-1693872000-1693958399@barbaradullaghan.com
SUMMARY:Evangeline Book Club
DESCRIPTION:Tuesday\, Sept. 5\, 2023 Evangeline Book Club\, Leland\, NC
URL:https://barbaradullaghan.com/event/evangeline-book-club/
LOCATION:Evangeline Book Club\, Leland\, NC\, United States
END:VEVENT
BEGIN:VEVENT
DTSTART;TZID=UTC:20230715T130000
DTEND;TZID=UTC:20230715T160000
DTSTAMP:20260425T143504
CREATED:20230602T132429Z
LAST-MODIFIED:20230602T132429Z
UID:4103-1689426000-1689436800@barbaradullaghan.com
SUMMARY:Book Signing & Reading at The Commons Building
DESCRIPTION:Book signing/reading at The Commons Building\, Brunswick Forest Parkway\, Leland\, NC 28451\, 1-4 PM\, July 15\, 2023
URL:https://barbaradullaghan.com/event/book-signing-reading-at-the-commons-building/
LOCATION:The Commons Building\, Brunswick Forest Parkway\, Leland\, NC\, 28451\, United States
END:VEVENT
BEGIN:VEVENT
DTSTART;TZID=UTC:20230619T140000
DTEND;TZID=UTC:20230619T150000
DTSTAMP:20260425T143504
CREATED:20230602T132617Z
LAST-MODIFIED:20230602T132625Z
UID:4107-1687183200-1687186800@barbaradullaghan.com
SUMMARY:Book Signing and Reading at Hendrick Hudson Library
DESCRIPTION:Book reading/signing at Hendrick Hudson Library\, 185 Kings Ferry Road\, Montrose\, NY 10548\, 2-3\, Monday\, June 19\, 2023
URL:https://barbaradullaghan.com/event/book-signing-and-reading-at-hendrick-hudson-library/
LOCATION:Hendrick Hudson Library\, 185 Kings Ferry Road\,\, Montrose\, NY\, 10548\, United States
END:VEVENT
BEGIN:VEVENT
DTSTART;VALUE=DATE:20230608
DTEND;VALUE=DATE:20230609
DTSTAMP:20260425T143504
CREATED:20230602T133719Z
LAST-MODIFIED:20230602T133719Z
UID:4122-1686182400-1686268799@barbaradullaghan.com
SUMMARY:Readerly podcast with Robin Henry
DESCRIPTION:Readerly podcast with Robin Henry\, Spotify\, plays on June 8 (Women’s Fiction Day!)
URL:https://barbaradullaghan.com/event/readerly-podcast-with-robin-henry/
LOCATION:Women’s Fiction Day\, United States
END:VEVENT
BEGIN:VEVENT
DTSTART;VALUE=DATE:20230608
DTEND;VALUE=DATE:20230609
DTSTAMP:20260425T143504
CREATED:20230602T132757Z
LAST-MODIFIED:20230602T132757Z
UID:4111-1686182400-1686268799@barbaradullaghan.com
SUMMARY:Women's Fiction Day
DESCRIPTION:Women’s Fiction Day
URL:https://barbaradullaghan.com/event/womens-fiction-day/
LOCATION:Women’s Fiction Day\, United States
END:VEVENT
END:VCALENDAR